BEGIN:VCALENDAR
VERSION:2.0
PRODID:-//Oper8 - ECPv6.15.20//NONSGML v1.0//EN
CALSCALE:GREGORIAN
METHOD:PUBLISH
X-ORIGINAL-URL:https://www.oper-8.eu
X-WR-CALDESC:Events for Oper8
REFRESH-INTERVAL;VALUE=DURATION:PT1H
X-Robots-Tag:noindex
X-PUBLISHED-TTL:PT1H
BEGIN:VTIMEZONE
TZID:Europe/Paris
BEGIN:DAYLIGHT
TZOFFSETFROM:+0100
TZOFFSETTO:+0200
TZNAME:CEST
DTSTART:20230326T010000
END:DAYLIGHT
BEGIN:STANDARD
TZOFFSETFROM:+0200
TZOFFSETTO:+0100
TZNAME:CET
DTSTART:20231029T010000
END:STANDARD
BEGIN:DAYLIGHT
TZOFFSETFROM:+0100
TZOFFSETTO:+0200
TZNAME:CEST
DTSTART:20240331T010000
END:DAYLIGHT
BEGIN:STANDARD
TZOFFSETFROM:+0200
TZOFFSETTO:+0100
TZNAME:CET
DTSTART:20241027T010000
END:STANDARD
BEGIN:DAYLIGHT
TZOFFSETFROM:+0100
TZOFFSETTO:+0200
TZNAME:CEST
DTSTART:20250330T010000
END:DAYLIGHT
BEGIN:STANDARD
TZOFFSETFROM:+0200
TZOFFSETTO:+0100
TZNAME:CET
DTSTART:20251026T010000
END:STANDARD
END:VTIMEZONE
BEGIN:VTIMEZONE
TZID:Europe/Stockholm
BEGIN:DAYLIGHT
TZOFFSETFROM:+0100
TZOFFSETTO:+0200
TZNAME:CEST
DTSTART:20230326T010000
END:DAYLIGHT
BEGIN:STANDARD
TZOFFSETFROM:+0200
TZOFFSETTO:+0100
TZNAME:CET
DTSTART:20231029T010000
END:STANDARD
BEGIN:DAYLIGHT
TZOFFSETFROM:+0100
TZOFFSETTO:+0200
TZNAME:CEST
DTSTART:20240331T010000
END:DAYLIGHT
BEGIN:STANDARD
TZOFFSETFROM:+0200
TZOFFSETTO:+0100
TZNAME:CET
DTSTART:20241027T010000
END:STANDARD
BEGIN:DAYLIGHT
TZOFFSETFROM:+0100
TZOFFSETTO:+0200
TZNAME:CEST
DTSTART:20250330T010000
END:DAYLIGHT
BEGIN:STANDARD
TZOFFSETFROM:+0200
TZOFFSETTO:+0100
TZNAME:CET
DTSTART:20251026T010000
END:STANDARD
END:VTIMEZONE
BEGIN:VEVENT
DTSTART;TZID=Europe/Paris:20241107T110000
DTEND;TZID=Europe/Paris:20241107T123000
DTSTAMP:20260423T173559
CREATED:20240924T123711Z
LAST-MODIFIED:20250121T143945Z
UID:5375-1730977200-1730982600@www.oper-8.eu
SUMMARY:Solutions for alternative weed control #4
DESCRIPTION:Drone technology applied to weed management.\nKey points for a successful uptake by the agricultural sector.\nProgram and speakers for this webinar:\n\nSpraying drones\, their applications towards alternative weed control\, and the current regulations in Europe \nVasilis Psiroukis\, Department of Natural Resources Management & Agricultural Engineering\, Agricultural University of Athens\, (Greece)\nUnderstanding the use of UAV in agroecological weeding practices\nJavier Santiago\, Doctor in plant production & Rosa Mosquera\, Full Profesor Crop Production and Project Engineering Department of University of Santiago de Compostela (Spain)\nDrones for site specific weed control and spot spraying \nIgor Tihonov\, Founder and CEO\, Solvi AB (Sweden)\nSpraydrone: Alternative solutions for weed detection and treatments \nMartin Braaen\, Co-founder\, Spraydrone AB (Sweden)\n\nThe webinar will be held in English.\nLast day to sign up: November 1st at 12:00 pm CEST\n \n \n \n 
URL:https://www.oper-8.eu/event/solutions-for-alternative-weed-control-4/
LOCATION:Online
CATEGORIES:France,Greece,Italy,Latvia,Spain,Sweden,United Kingdom
ATTACH;FMTTYPE=image/jpeg:https://www.oper-8.eu/wp-content/uploads/2024/09/2024-11-Oper8-webinar-4-2-scaled.jpg
ORGANIZER;CN="French Wine and Vine Institute (IFV)":MAILTO:fanny.prezman@vignevin.com
END:VEVENT
BEGIN:VEVENT
DTSTART;TZID=Europe/Stockholm:20241114T120000
DTEND;TZID=Europe/Stockholm:20241114T150000
DTSTAMP:20260423T173559
CREATED:20241111T184655Z
LAST-MODIFIED:20250121T145811Z
UID:5497-1731585600-1731596400@www.oper-8.eu
SUMMARY:Welcome to an online workshop - Solutions to sustain the green transition
DESCRIPTION:Welcome to an online workshop in three appointments to celebrate Rachel Carson and her most famous book.\n1st Appointment – Solutions to sustain the green transition (in Agriculture) \nWhen: November 14th\nTime: 12:00 PM – 3:00 PM\nWhere: Online (Link to Zoom meeting) \n \n \n 
URL:https://www.oper-8.eu/event/welcome-to-an-online-workshop-solutions-to-sustain-the-green-transition/
CATEGORIES:Greece,Italy
END:VEVENT
END:VCALENDAR